BEGIN:VCALENDAR
VERSION:2.0
PRODID:-//Paroisse Saint Tiviziau - Bro Landi - ECPv6.15.20//NONSGML v1.0//EN
CALSCALE:GREGORIAN
METHOD:PUBLISH
X-WR-CALNAME:Paroisse Saint Tiviziau - Bro Landi
X-ORIGINAL-URL:https://paroisselandivisiau.fr
X-WR-CALDESC:Évènements pour Paroisse Saint Tiviziau - Bro Landi
REFRESH-INTERVAL;VALUE=DURATION:PT1H
X-Robots-Tag:noindex
X-PUBLISHED-TTL:PT1H
BEGIN:VTIMEZONE
TZID:Europe/Paris
BEGIN:DAYLIGHT
TZOFFSETFROM:+0100
TZOFFSETTO:+0200
TZNAME:CEST
DTSTART:20230326T010000
END:DAYLIGHT
BEGIN:STANDARD
TZOFFSETFROM:+0200
TZOFFSETTO:+0100
TZNAME:CET
DTSTART:20231029T010000
END:STANDARD
BEGIN:DAYLIGHT
TZOFFSETFROM:+0100
TZOFFSETTO:+0200
TZNAME:CEST
DTSTART:20240331T010000
END:DAYLIGHT
BEGIN:STANDARD
TZOFFSETFROM:+0200
TZOFFSETTO:+0100
TZNAME:CET
DTSTART:20241027T010000
END:STANDARD
BEGIN:DAYLIGHT
TZOFFSETFROM:+0100
TZOFFSETTO:+0200
TZNAME:CEST
DTSTART:20250330T010000
END:DAYLIGHT
BEGIN:STANDARD
TZOFFSETFROM:+0200
TZOFFSETTO:+0100
TZNAME:CET
DTSTART:20251026T010000
END:STANDARD
END:VTIMEZONE
BEGIN:VEVENT
DTSTART;TZID=Europe/Paris:20240608T090000
DTEND;TZID=Europe/Paris:20240608T190000
DTSTAMP:20260422T015150
CREATED:20240528T151510Z
LAST-MODIFIED:20240528T151833Z
UID:33036-1717837200-1717873200@paroisselandivisiau.fr
SUMMARY:Sortie paroissiale
DESCRIPTION:Départ de la maison paroissiale à 9h / Retour vers 19h. \nVenez nombreux !\n(Temps d’échanges\, pique-nique\, visite du site) \nRenseignements et détails pratiques au : 02.98.68.11.63
URL:https://paroisselandivisiau.fr/event/sortie-paroissiale/
LOCATION:Abbaye cistercienne Notre Dame de Timadeuc
CATEGORIES:Agenda
ATTACH;FMTTYPE=image/jpeg:https://paroisselandivisiau.fr/wp-content/uploads/2024/05/Sortie-paroissiale-img600.jpg
END:VEVENT
END:VCALENDAR