BEGIN:VCALENDAR
VERSION:2.0
PRODID:-//Paroisse Saint Tiviziau - Bro Landi - ECPv6.15.20//NONSGML v1.0//EN
CALSCALE:GREGORIAN
METHOD:PUBLISH
X-WR-CALNAME:Paroisse Saint Tiviziau - Bro Landi
X-ORIGINAL-URL:https://paroisselandivisiau.fr
X-WR-CALDESC:Évènements pour Paroisse Saint Tiviziau - Bro Landi
REFRESH-INTERVAL;VALUE=DURATION:PT1H
X-Robots-Tag:noindex
X-PUBLISHED-TTL:PT1H
BEGIN:VTIMEZONE
TZID:Europe/Paris
BEGIN:DAYLIGHT
TZOFFSETFROM:+0100
TZOFFSETTO:+0200
TZNAME:CEST
DTSTART:20230326T010000
END:DAYLIGHT
BEGIN:STANDARD
TZOFFSETFROM:+0200
TZOFFSETTO:+0100
TZNAME:CET
DTSTART:20231029T010000
END:STANDARD
BEGIN:DAYLIGHT
TZOFFSETFROM:+0100
TZOFFSETTO:+0200
TZNAME:CEST
DTSTART:20240331T010000
END:DAYLIGHT
BEGIN:STANDARD
TZOFFSETFROM:+0200
TZOFFSETTO:+0100
TZNAME:CET
DTSTART:20241027T010000
END:STANDARD
BEGIN:DAYLIGHT
TZOFFSETFROM:+0100
TZOFFSETTO:+0200
TZNAME:CEST
DTSTART:20250330T010000
END:DAYLIGHT
BEGIN:STANDARD
TZOFFSETFROM:+0200
TZOFFSETTO:+0100
TZNAME:CET
DTSTART:20251026T010000
END:STANDARD
END:VTIMEZONE
BEGIN:VEVENT
DTSTART;TZID=Europe/Paris:20241101T143000
DTEND;TZID=Europe/Paris:20241101T143000
DTSTAMP:20260421T130159
CREATED:20241029T082021Z
LAST-MODIFIED:20241029T091425Z
UID:33729-1730471400-1730471400@paroisselandivisiau.fr
SUMMARY:Office des Défunts - 14h30
DESCRIPTION:Bodilis\, Chapelle de Lourdes\, Lampaul-Guimiliau\, Guimiliau\, Plougourvest\, Plougar\, Plounéventer\, Plouvorn\, Plouzévédé\, Saint-Servais\, Saint-Derrien\, Saint-Vougay\, Saint Thégonnec\, Sizun
URL:https://paroisselandivisiau.fr/event/office-des-defunts-14h30/
CATEGORIES:Agenda
END:VEVENT
BEGIN:VEVENT
DTSTART;TZID=Europe/Paris:20241108T190000
DTEND;TZID=Europe/Paris:20241108T190000
DTSTAMP:20260421T130159
CREATED:20241105T083115Z
LAST-MODIFIED:20241105T083618Z
UID:33750-1731092400-1731092400@paroisselandivisiau.fr
SUMMARY:Pasto Jeunes ! 19H
DESCRIPTION:
URL:https://paroisselandivisiau.fr/event/pasto-jeunes-19h/
LOCATION:Maison paroissiale\, 2 place de Lourdes Landivisiau
CATEGORIES:Agenda
END:VEVENT
BEGIN:VEVENT
DTSTART;TZID=Europe/Paris:20241112T153000
DTEND;TZID=Europe/Paris:20241112T153000
DTSTAMP:20260421T130159
CREATED:20241105T083221Z
LAST-MODIFIED:20241105T083535Z
UID:33752-1731425400-1731425400@paroisselandivisiau.fr
SUMMARY:Rencontre Guides et assistants funérailles
DESCRIPTION:
URL:https://paroisselandivisiau.fr/event/rencontre-guides-et-assistants-funerailles/
LOCATION:Maison paroissiale\, 2 place de Lourdes Landivisiau
CATEGORIES:Agenda
END:VEVENT
BEGIN:VEVENT
DTSTART;TZID=Europe/Paris:20241116T100000
DTEND;TZID=Europe/Paris:20241116T110000
DTSTAMP:20260421T130159
CREATED:20241105T083316Z
LAST-MODIFIED:20241105T083316Z
UID:33754-1731751200-1731754800@paroisselandivisiau.fr
SUMMARY:Permanence baptêmes
DESCRIPTION:
URL:https://paroisselandivisiau.fr/event/permanence-baptemes/
LOCATION:Maison paroissiale\, 2 place de Lourdes Landivisiau
CATEGORIES:Agenda
END:VEVENT
BEGIN:VEVENT
DTSTART;TZID=Europe/Paris:20241122T173000
DTEND;TZID=Europe/Paris:20241122T183000
DTSTAMP:20260421T130159
CREATED:20241115T082637Z
LAST-MODIFIED:20241115T082637Z
UID:33775-1732296600-1732300200@paroisselandivisiau.fr
SUMMARY:Rencontre Profession de foi
DESCRIPTION:
URL:https://paroisselandivisiau.fr/event/rencontre-profession-de-foi/
LOCATION:Maison paroissiale Place de Lourdes Landivisiau
CATEGORIES:Agenda
END:VEVENT
END:VCALENDAR